BEGIN:VCALENDAR
VERSION:2.0
PRODID:-//eventon.com NONSGML v1.0//EN
CALSCALE:GREGORIAN
METHOD:PUBLISH
BEGIN:VEVENT
UID:69eb7a2016502
DTSTAMP:20260424T141144Z
DTSTART:20260516T180000Z
DTEND:20260516T190000Z
LOCATION:
SUMMARY:Concert Géophonik Transe Didgeridoo Solo | Rencontre Chamanique | Fonroque 24
DESCRIPTION:Concert Géophonik Transe Didgeridoo Solo | Rencontre Chamaniqu
 e | Fonroque 24\nhttps://othelloravez.com/events/concert-geophonik-transe-
 didgeridoo-solo-rencontre-chamanique-fonroque-24/
URL:https://othelloravez.com/events/concert-geophonik-transe-didgeridoo-solo-rencontre-chamanique-fonroque-24/
END:VEVENT
END:VCALENDAR